BEGIN:VCALENDAR
VERSION:2.0
PRODID:-//hacksw/handcal//NONSGML v1.0//EN
BEGIN:VEVENT
DTSTART:20260520T170000
DTEND:20260520T200000
LOCATION:IEQT Chartres \n1 AVENUE MARCEL PROUST \n28000 CHARTRES
ORGANIZER;CN=Léa ROYER:MAILTO:lea.royer@cci28.fr
SUMMARY:Portes Ouvertes Nocturnes - IEQT Chartres
DESCRIPTION:Portes Ouvertes Nocturnes - Rentrée de septembre 2026 - 2027Mercredi 20 Mai 2026Mercredi 01 Juillet 2026\nINSCRIVEZ-VOUS ici https://calendly.com/campuscci28/journee-portes-ouvertes Nos...
URL:https://network.ieqt.org/fr/event/portes-ouvertes-nocturnes-ieqt-chartres/2026/05/20/181
BEGIN:VALARM
TRIGGER:-P0DT1H0M0S
ACTION:DISPLAY
END:VALARM
END:VEVENT
END:VCALENDAR